BEGIN:VCALENDAR
VERSION:2.0
PRODID:-//Kreativwirtschaftszentren Heidelberg - ECPv6.15.13//NONSGML v1.0//EN
CALSCALE:GREGORIAN
METHOD:PUBLISH
X-ORIGINAL-URL:https://kreativwirtschaftszentren-heidelberg.de
X-WR-CALDESC:Veranstaltungen für Kreativwirtschaftszentren Heidelberg
REFRESH-INTERVAL;VALUE=DURATION:PT1H
X-Robots-Tag:noindex
X-PUBLISHED-TTL:PT1H
BEGIN:VTIMEZONE
TZID:Europe/Berlin
BEGIN:DAYLIGHT
TZOFFSETFROM:+0100
TZOFFSETTO:+0200
TZNAME:CEST
DTSTART:20250330T010000
END:DAYLIGHT
BEGIN:STANDARD
TZOFFSETFROM:+0200
TZOFFSETTO:+0100
TZNAME:CET
DTSTART:20251026T010000
END:STANDARD
BEGIN:DAYLIGHT
TZOFFSETFROM:+0100
TZOFFSETTO:+0200
TZNAME:CEST
DTSTART:20260329T010000
END:DAYLIGHT
BEGIN:STANDARD
TZOFFSETFROM:+0200
TZOFFSETTO:+0100
TZNAME:CET
DTSTART:20261025T010000
END:STANDARD
BEGIN:DAYLIGHT
TZOFFSETFROM:+0100
TZOFFSETTO:+0200
TZNAME:CEST
DTSTART:20270328T010000
END:DAYLIGHT
BEGIN:STANDARD
TZOFFSETFROM:+0200
TZOFFSETTO:+0100
TZNAME:CET
DTSTART:20271031T010000
END:STANDARD
END:VTIMEZONE
BEGIN:VEVENT
DTSTART;TZID=Europe/Berlin:20260426T140000
DTEND;TZID=Europe/Berlin:20260426T170000
DTSTAMP:20260425T161724
CREATED:20250226T105106Z
LAST-MODIFIED:20260415T145940Z
UID:20239-1777212000-1777222800@kreativwirtschaftszentren-heidelberg.de
SUMMARY:Nächste Besichtigung von MARLENE 42
DESCRIPTION:Softwareentwicklerinnen\, Architekten\, Marketing-Expertinnen\, Designer – und alle anderen aus der Kultur- und Kreativwirtschaft aufgepasst! In der Heidelberger Südstadt\, direkt am Marlene-Dietrich-Platz\, entstehen mit MARLENE 42 neue Flächen für euch. Ihr sucht ein Atelier\, eine Werkstatt oder ein Büro für euer Unternehmen oder eure Selbständigkeit und wollt euch das Gebäude anschauen? \nKommt gerne zu unserer nächsten Besichtigung in der MARLENE 42 am 26. April ab 14.00 Uhr vorbei (Adresse: Treffpunkt ist Eingang B\, Marlene-Dietrich-Platz 2\, 69126 Heidelberg)– und meldet euch hier unverbindlich an.
URL:https://kreativwirtschaftszentren-heidelberg.de/veranstaltungskalender/naechste-besichtigung-von-marlene-42/
LOCATION:MARLENE 42\, Marlene-Dietrich-Platz 2\, Heidelberg\, 69126
ATTACH;FMTTYPE=image/png:https://kreativwirtschaftszentren-heidelberg.de/wp-content/uploads/2025/02/Header_Besichtigung.png
END:VEVENT
END:VCALENDAR